Workbook

Sheet Disclaimer

Sheet Instructions
A1: Please read the "Discalimer" worksheet. Use of this workbook represents acceptance of the terms of the Disclaimer.

Sheet Input
A1: Please read the "Disclaimer" worksheet. Use of this workbook represents acceptance of the terms of the Disclaimer.
A2: (Note: This notice will not print with the rest of the page.)
A3: LEVY INPUT PAGE - ASSUMPTIONS | F3: Legend | AB3: Yes
F4: District Assumptions & Data Entry | AB4: No
B5: Tax Levy Year | C5: 2023 | F5: Calculated Values
F6: Review Needed
B7: District Name | D7: Enter District Name
B8: District Number | D8: Enter District Number
B9: Aggregate or County 1 | D9: Enter County 1 Name or Enter "Aggregate" to enter Aggregate Extension Below
B10: County 2 | D10: Enter County 2 Name to Itemize County Extension Below
B11: County 3 | D11: Enter County 3 Name to Itemize County Extension Below
B12: County 4 | D12: Enter County 4 Name to Itemize County Extension Below
C13: Fill out County names as needed - leave other boxes blank
B15: PTELL - Tax Capped | C15: No | D15: Choose Yes or No | E15: Critical Assumptions - Formulas in this workbook are dependent on assumptions entered for PTELL & Cook County questions
B17: Cook County Prior Year EAV Limit | C17: No | D17: Choose Yes or No
B19: Original Tax Levy Certificate | C19: x | E19: I think we should remove these two lines as well
B20: Amended Tax Levy Certificate
C21: Enter "x" in one box only
B24: Lesser of 5% or Consumer Price Index | C24: 0.05 | D24: =" Lesser of 5% or CPI for Year Ending "&C5-1&", Applies to the "&C5&" Levy" -> Lesser of 5% or CPI for Year Ending 2022, Applies to the 2023 Levy
B26: ="Actual Rate Setting EAV for "&C5-1&" " -> Actual Rate Setting EAV for 2022 | D26: =" Enter Actual Rate Setting EAV for "&C5-1&"" -> Enter Actual Rate Setting EAV for 2022
B28: ="Estimated Existing EAV % Change for "&C5&" " -> Estimated Existing EAV % Change for 2023 | D28: Enter Reassessment Percentage Before New Property
B30: ="Estimated New Property for "&C5&" " -> Estimated New Property for 2023 | D30: Enter Estimated New Property
B32: ="Estimated Total EAV for "&C5&" " -> Estimated Total EAV for 2023 | C32: =C26*(1+C28)+C30 -> 0 | D32: Includes New Property
B33: Total % Change From Prior Year | C33: =C32/C26-1 -> #DIV/0! | D33: Includes New Property
B35: No. of Tax Levied Bond Issues Outstanding | C35: 0
E37: Note, do not include the amount of PTAB revenue recapture added to the extension pursuant to Public Act 102-0519.
C41: Input Statutory Maximum Tax Rate | D41: ="Total "&C5-1&" Extension for all Counties" -> Total 2022 Extension for all Counties | E41: ="Input "&C5-1&" "&C9&" County Extension:" -> Input 2022 County Extension: | F41: =IF(C10="","","Input "&C5-1&" "&C10&" County Extension:") | G41: =IF(C11="","","Input "&C5-1&" "&C11&" County Extension:") | H41: =IF(C12="","","Input "&C5-1&" "&C12&" County Extension:")
A42: =IF($C$15="Yes","N/A"," ") | B42: Corporate | D42: =SUM(E42:H42) -> 0
B43: Working Cash Funds | D43: =SUM(E43:H43) -> 0
B44: Audit | D44: =SUM(E44:H44) -> 0
B45: Municipal Retirement | D45: =SUM(E45:H45) -> 0
B46: Unemployment Insurance | D46: =SUM(E46:H46) -> 0
B47: Workman's Compensation | D47: =SUM(E47:H47) -> 0
B48: Social Security | D48: =SUM(E48:H48) -> 0
B49: Liability Insurance | D49: =SUM(E49:H49) -> 0
B50: Buildings Equipment and Maintenance | D50: =SUM(E50:H50) -> 0
A51: Custom Fund Name | B51: Custom 1 | D51: =SUM(E51:H51) -> 0
A52: Custom Fund Name | B52: Custom 2 | D52: =SUM(E52:H52) -> 0
A53: Custom Fund Name | B53: Custom 3 | D53: =SUM(E53:H53) -> 0
C55: =IF(C15="Yes","Total Capped Extension for "&C5-1&" ","Total Aggregate Extension for "&C5-1&" ") -> Total Aggregate Extension for 2022 | D55: =SUM(D42:D53) -> 0 | E55: =IF(E42>0,SUM(E42:E53),"") | F55: =IF(F42>0,SUM(F42:F53),"") | G55: =IF(G42>0,SUM(G42:G53),"") | H55: =IF(H42>0,SUM(H42:H53),"")
...

Sheet Calculations
H1: Original Assumptions | J1: Legend
A2: =Input!$C$5&" LEVY CALCULATION PAGE " -> 2023 LEVY CALCULATION PAGE | G2: Consumer Price Index | H2: =Input!$C$24 -> 0.05 | J2: District Assumptions & Data Entry
G3: ="Actual Total EAV for "&Input!C5-1&" " -> Actual Total EAV for 2022 | H3: =Input!$C$26 -> 0 | J3: Calculated Values
J4: Review Needed
A5: Limiting Rate: | B5: (Prior Year Extension x (1+Lesser of 5% or CPI)) | G5: ="Estimated Existing EAV % change for "&Input!C5&" " -> Estimated Existing EAV % change for 2023 | H5: =Input!$C$28 -> 0
B6: (Total EAV - New Property) | G6: ="Estimated Existing EAV Value for "&Input!C5&" " -> Estimated Existing EAV Value for 2023 | H6: =H3*(1+H5) -> 0
G8: ="Estimated New Property for "&Input!C5&" " -> Estimated New Property for 2023 | H8: =Input!$C$30 -> 0
A9: Limiting Rate | B9: =IF(Input!C15="Yes",Input!D55*(1+MIN(0.05,Input!$C$24))/(Input!$C$32-Input!C30)*100,"N/A") -> N/A
A10: Estimated Capped Extension | B10: =IF(Input!C15="Yes",(B9*Input!C32)/100,"N/A") -> N/A | G10: ="Estimated Total EAV for "&Input!C5&" " -> Estimated Total EAV for 2023 | H10: =Input!$C$32 -> 0 | I10: Includes New Property
G11: ="Estimated Total EAV % change for "&Input!C5&" " -> Estimated Total EAV % change for 2023 | H11: =Input!$C$33 -> #DIV/0! | I11: Includes New Property
F12: =IF(Input!C15="Yes","Weighted Extension Based on Prior Year Extension","Individual Fund Estimated Maximum Extension") -> Individual Fund Estimated Maximum Extension | G12: =IF(Input!C15="Yes","Levy Amount $","Levy Amount $") -> Levy Amount $ | H12: Levy Increase %
B13: Prior Year Extension | C13: Statutory Maximum Tax Rate | D13: =IF(Input!$C$17="no","Individual Fund Estimated Maximum Extension","Individual Fund Estimated Maximum Extension using Prior Year EAV") -> Individual Fund Estimated Maximum Extension | J13: Final Levy Amount | K13: Does Levy Amount Exceed Estimated Maximum Extension?
A14: =Input!B42 -> Corporate | B14: =Input!D42 -> 0 | C14: =Input!C42 -> 0 | D14: =IF(Input!$C$17="no",C14*Input!$C$32,C14*($H$3+$H$8))/100 -> 0 | F14: =IF(Input!$C$15="Yes",B14/$B$28*$B$10,D14) -> 0 | J14: =ROUNDUP(IF(G14="",F14*(1+H14),G14*(1+H14)),0) -> 0 | K14: =IF(Input!$C$15="Yes","",IF(J14>=D14,"YES","NO")) -> YES
A15: =Input!B43 -> Working Cash Funds | B15: =Input!D43 -> 0 | C15: =Input!C43 -> 0 | D15: =IF(Input!$C$17="no",C15*Input!$C$32,C15*($H$3+$H$8))/100 -> 0 | F15: =IF(Input!$C$15="Yes",B15/$B$28*$B$10,D15) -> 0 | J15: =ROUNDUP(IF(G15="",F15*(1+H15),G15*(1+H15)),0) -> 0 | K15: =IF(Input!$C$15="Yes","",IF(J15>=D15,"YES","NO")) -> YES
A16: =Input!B44 -> Audit | B16: =Input!D44 -> 0 | C16: =Input!C44 -> 0 | D16: =IF(Input!$C$17="no",C16*Input!$C$32,C16*($H$3+$H$8))/100 -> 0 | F16: =IF(Input!$C$15="Yes",B16/$B$28*$B$10,D16) -> 0 | J16: =ROUNDUP(IF(G16="",F16*(1+H16),G16*(1+H16)),0) -> 0 | K16: =IF(Input!$C$15="Yes","",IF(J16>=D16,"YES","NO")) -> YES
A17: =Input!B45 -> Municipal Retirement | B17: =Input!D45 -> 0 | C17: =Input!C45 -> 0 | D17: =IF(Input!C15="Yes","$0.00 ","Input in Manual Override") -> Input in Manual Override | F17: =IF(Input!$C$15="Yes",B17/$B$28*$B$10,"Levy Amount $ Required") -> Levy Amount $ Required | J17: =ROUND(IF(G17="",F17*(1+H17),G17*(1+H17)),0) -> #VALUE! | K17: =IF(Input!$C$15="Yes"," ","N/A") -> N/A
A18: =Input!B46 -> Unemployment Insurance | B18: =Input!D46 -> 0 | C18: =Input!C46 -> 0 | D18: =IF(Input!C16="Yes","$0.00 ","Input in Manual Override") -> Input in Manual Override | F18: =IF(Input!$C$15="Yes",B18/$B$28*$B$10,"Levy Amount $ Required") -> Levy Amount $ Required | J18: =ROUND(IF(G18="",F18*(1+H18),G18*(1+H18)),0) -> #VALUE!
A19: =Input!B47 -> Workman's Compensation | B19: =Input!D47 -> 0 | C19: =Input!C47 -> 0 | D19: =IF(Input!C17="Yes","$0.00 ","Input in Manual Override") -> Input in Manual Override | F19: =IF(Input!$C$15="Yes",B19/$B$28*$B$10,"Levy Amount $ Required") -> Levy Amount $ Required | J19: =ROUND(IF(G19="",F19*(1+H19),G19*(1+H19)),0) -> #VALUE!
A20: =Input!B48 -> Social Security | B20: =Input!D48 -> 0 | C20: =Input!C48 -> 0 | D20: =IF(Input!C15="Yes","$0.00 ","Input in Manual Override") -> Input in Manual Override | F20: =IF(Input!$C$15="Yes",B20/$B$28*$B$10,"Levy Amount $ Required") -> Levy Amount $ Required | J20: =ROUND(IF(G20="",F20*(1+H20),G20*(1+H20)),0) -> #VALUE! | K20: =IF(Input!$C$15="Yes"," ","N/A") -> N/A
A21: =Input!B49 -> Liability Insurance | B21: =Input!D49 -> 0 | C21: =Input!C49 -> 0 | D21: =IF(Input!C15="Yes","$0.00 ","Input in Manual Override") -> Input in Manual Override | F21: =IF(Input!$C$15="Yes",B21/$B$28*$B$10,"Levy Amount $ Required") -> Levy Amount $ Required | J21: =ROUND(IF(G21="",F21*(1+H21),G21*(1+H21)),0) -> #VALUE! | K21: =IF(Input!$C$15="Yes"," ","N/A") -> N/A
A22: =Input!B50 -> Buildings Equipment and Maintenance | B22: =Input!D50 -> 0 | C22: =Input!C50 -> 0 | D22: =IF(Input!$C$17="no",C22*Input!$C$32,C22*($H$3+$H$8))/100 -> 0 | F22: =IF(Input!$C$15="Yes",B22/$B$28*$B$10,D22) -> 0 | J22: =ROUNDUP(IF(G22="",F22*(1+H22),G22*(1+H22)),0) -> 0 | K22: =IF(Input!$C$15="Yes","",IF(J22>=D22,"YES","NO")) -> YES
A23: =Input!B51 -> Custom 1 | B23: =Input!D51 -> 0 | C23: =Input!C51 -> 0 | D23: =IF(Input!$C$17="no",C23*Input!$C$32,C23*($H$3+$H$8))/100 -> 0 | F23: =IF(Input!$C$15="Yes",B23/$B$28*$B$10,D23) -> 0 | J23: =ROUNDUP(IF(G23="",F23*(1+H23),G23*(1+H23)),0) -> 0 | K23: =IF(Input!$C$15="Yes","",IF(J23>=D23,"YES","NO")) -> YES
A24: =Input!B52 -> Custom 2 | B24: =Input!D52 -> 0 | C24: =Input!C52 -> 0 | D24: =IF(Input!$C$17="no",C24*Input!$C$32,C24*($H$3+$H$8))/100 -> 0 | F24: =IF(Input!$C$15="Yes",B24/$B$28*$B$10,D24) -> 0 | J24: =ROUNDUP(IF(G24="",F24*(1+H24),G24*(1+H24)),0) -> 0 | K24: =IF(Input!$C$15="Yes","",IF(J24>=D24,"YES","NO")) -> YES
A25: =Input!B53 -> Custom 3 | B25: =Input!D53 -> 0 | C25: =Input!C53 -> 0 | D25: =IF(Input!$C$17="no",C25*Input!$C$32,C25*($H$3+$H$8))/100 -> 0 | F25: =IF(Input!$C$15="Yes",B25/$B$28*$B$10,D25) -> 0 | J25: =ROUNDUP(IF(G25="",F25*(1+H25),G25*(1+H25)),0) -> 0 | K25: =IF(Input!$C$15="Yes","",IF(J25>=D25,"YES","NO")) -> YES
K27: Truth in Taxation
A28: =IF(Input!C15="Yes","Capped Extension ","Extension ") -> Extension | B28: =SUM(B14:B25) -> 0 | D28: =SUM(D14:D25) -> 0 | F28: =SUM(F14:F25) -> 0 | G28: =SUM(G14:G27) -> 0 | I28: =IF(Input!C15="Yes","Capped Levy ","District Levy ") -> District Levy | J28: =SUM(J14:J25) -> #VALUE! | K28: =(J28+J32)/(B28+B32)-1 -> #VALUE! | L28: =IF(K28>0.05,"YES","NO") -> #VALUE!
K29: Truth in Taxation Required
I30: =IF(J30<0,"Levy Amount Below Estimated Extension ","Levy Amount Above Estimated Extension ") -> Levy Amount Above Estimated Extension | J30: =IF(Input!C15="Yes",J28-B10,"N/A") -> N/A
D31: Target Rate for Special Recreation Levy | F31: 0 | G31: =IF(F31>4%," ALERT - Special Recreation Rate Can Not Exceed 4%","")
A32: Special Recreation | B32: =Input!D57 -> 0 | D32: Estimated Special Recreation Levy | F32: =H10*(MIN(F31,4%))/100 -> 0 | J32: =G32 -> 0
A34: Bond & Interest Extension | B34: =Input!D59 -> 0 | F34: Estimated Bond and Interest Levy | I34: Bond & Int. Levy | J34: =G34 -> 0 | K34: =J34/B34-1 -> #DIV/0!
G35: (County Clerk Levies Bond & Interest for the District, Verify Records with County Clerk)
A37: Total Extension | B37: =B28+B34+B32 -> 0 | I37: Total Levy | J37: =J28+J34+J32 -> #VALUE! | K37: =J37/B37-1 -> #VALUE!

Sheet copyright_disclaimer
C4: Follow these steps to view and set the macro security level in Excel 2007:
A5: 1. Click the Microsoft Office Button and then click Excel Options.
A6: 2. Click Trust Center, click Trust Center Settings, and then click Macro Settings.
A7: 3. Click the options that you want:
A8: · Disable all macros without notification
A9: · Disable all macros with notification
A10: · Disable all macros except digitally signed macros
A11: · Enable all macros (not recommended, potentially dangerous code can run)
A12: · Trust access to the VBA project object model
C18: Follow these steps to view and set the macro security level in Excel 2010:
C19: 1. Click the File tab and then click Options.
C44: 2. Click the Trust Center tab and then click the Trust Center Settings button.
C45: The Trust Center dialog box appears with the Macro Settings tab selected.
C46: Select a security level: Enable all macros
C93: 3. Close the excel file, reopen the file.

Sheet Tax Calculator - Calculations
F1: Legend
A2: =Input!$C$5&" Taxpayer Impact Calculation Page" -> 2023 Taxpayer Impact Calculation Page | F2: District Assumptions & Data Entry
F3: Calculated Values
B4: Original Assumptions from Calculations Tab | F4: Review Needed | M4: Taxpayer Impact
A6: =Input!B28 -> Estimated Existing EAV % Change for 2023 | B6: =+Input!C28 -> 0 | L6: =(Input!$C$5-1)& " Fair Cash / Market Value Home" -> 2022 Fair Cash / Market Value Home
A7: ="Estimated Existing EAV Value for "& Input!C5&" " -> Estimated Existing EAV Value for 2023 | B7: =Input!C26*(1+B6) -> 0 | Z7: 3.0027 | AB7: LY22
L8: ="Estimated "&Input!C5&" Fair Cash Value Home" -> Estimated 2023 Fair Cash Value Home | M8: =M6*(1+B6) -> 0 | N8: Includes EAV % Change | X8: Cook | Y8: 0.1 | Z8: 3.0027 | AA8: 10000 | AB8: 10000
A9: =Input!B30 -> Estimated New Property for 2023 | B9: =Input!C30 -> 0 | X9: DuPage | Y9: =((1/3)*100)% -> 0.33333333 | Z9: 1 | AA9: 8000 | AB9: 6000
A10: =Input!B32 -> Estimated Total EAV for 2023 | B10: =B7+B9 -> 0 | C10: Includes New Property | L10: Total Assessed Value | M10: =M8*N10 -> 0 | N10: =IF(Input!$C$9="Cook",'Tax Calculator - Calculations'!Y8,'Tax Calculator - Calculations'!Y9) -> 0.33333333 | X10: Lake | AA10: 8000
L11: State Equalization Multiplier | M11: =M10*N11 -> 0 | N11: =IF(Input!$C$9="Cook",'Tax Calculator - Calculations'!Z8,'Tax Calculator - Calculations'!Z9) -> 1 | X11: McHenry | AA11: 8000
A12: =Input!$C$5-1&" Operating Rate" -> 2022 Operating Rate | B12: =(Input!D55/Input!C26)*100 -> #DIV/0! | X12: Kane | AA12: 8000
A13: ="Estimated "&Input!$C$5&" Operating Rate" -> Estimated 2023 Operating Rate | B13: =IF(Input!C15="Yes",IF(Calculations!J28/'Tax Calculator - Calculations'!B10*100>Calculations!B9,Calculations!B9,Calculations!J28/'Tax Calculator - Calculations'!B10*100),(IF(Calculations!J14>Calculations!F14,Calculations!F14,Calculations!J14)+IF(Calculations!J15>Calculations!F15,Calculations!F15,Calculations!J15)+IF(Calculations!J16>Calculations!F16,Calculations!F16,Calculations!J16)+IF(Calculations!J22>Calculations!F22,Calculations!F22,Calculations!J22)+IF(Calculations!J23>Calculations!F23,Calculations!F23,Calculations!J23)+IF(Calculations!J24>Calculations!F24,Calculations!F24,Calculations!J24)+IF(Calculations!J25>Calculations!F25,Calculations!F25,Calculations!J25)+Calculations!J17+Calculations!J18+Calculations!J19+Calculations!J20+Calculations!J21)/B10*100) -> #VALUE! | L13: Homestead Exemption LY22 | M13: =IF(Input!$C$9="Cook",'Tax Calculator - Calculations'!AB8,AB9) -> 6000 | N13: Based on County 1 on the input tab | X13: Will | AA13: 8000
A14: ="Estimated "&Input!C5&" Bond & Interest Tax Rate" -> Estimated 2023 Bond & Interest Tax Rate | B14: =((Calculations!G34*(1+B16)/B10*100)+0.0000001) -> #DIV/0! | C14: Includes Loss Cost | L14: Homestead Exemption LY23 | M14: =IF(Input!$C$9="Cook",'Tax Calculator - Calculations'!AA8,IF(Input!$C$9="DuPage",'Tax Calculator - Calculations'!AA9,IF(Input!C9="Lake",'Tax Calculator - Calculations'!AA10,IF(Input!C9="McHenry",'Tax Calculator - Calculations'!AA11,IF(Input!C9="Kane",'Tax Calculator - Calculations'!AA12,IF(Input!C9="Will",'Tax Calculator - Calculations'!AA13,AA14)))))) -> 6000 | AA14: 6000
E15: Note, if the B&I levy on the "Calculations" tab was reduced by an expected abatement, it will need to be removed to prevent double counting the abatement.
A16: Bond & Interest Lost Cost (%) | L16: Net Equalized Assessed Value | M16: =M11-M14 -> -6000
A18: Bond & Interest Abatement | B18: 0 | C18: Enter debt service to be abated | L18: ="Estimated Change in Tax Payment for "& Input!C5 -> Estimated Change in Tax Payment for 2023 | M18: =(M16*(B23)/100)-(((((M6*N10)*IF(Input!C9="Cook",Z7,Z9))-M13)*(B24)/100)) -> #DIV/0!
A19: Bond & Interest Rate Abatement | B19: =((B18*(1+B16))/B10*100) -> #DIV/0! | C19: Cannot exceed estimated B&I Tax Rate
I20: ="Note, the calculator is intended to estimate the "&Input!C7&" portion of the tax bill." -> Note, the calculator is intended to estimate the portion of the tax bill.
A21: ="Net "&Input!$C$5&" B&I Tax Rate" -> Net 2023 B&I Tax Rate | B21: =(IF(B14>B19,B14-B19,"Check Abatement")) -> #DIV/0! | I21: It does not include property taxes paid for other District purposes and to other governments. Actual tax rates and payments may vary based on District-wide EAV growth, individual homeowner reassessment, State Law changes, property tax rate initiatives and other factors.
A23: ="Total "&[1]Input!$C$5&" Tax Rate" -> Total 2023 Tax Rate | B23: =B21+B13 -> #DIV/0!
A24: Total Prior Year's Tax Rate | B24: =Input!D61/Input!C26*100 -> #DIV/0!

Sheet Extension
I1: Original Assumptions | M1: Legend
A2: =Input!$C$5&" TAX EXTENSION WORKSHEET" -> 2023 TAX EXTENSION WORKSHEET | H2: ="Estimated % Change to Existing EAV for "&Input!$C$5&" " -> Estimated % Change to Existing EAV for 2023 | I2: =Input!C28 -> 0 | M2: District Assumptions & Data Entry
H3: ="Estimated New Property for "&Input!$C$5&" " -> Estimated New Property for 2023 | I3: =Input!$C$30 -> 0 | M3: Calculated Values
H4: ="Estimated Total EAV for "&Input!$C$5&" " -> Estimated Total EAV for 2023 | I4: =Input!$C$32 -> 0 | M4: Review Needed
H5: ="Estimated Total EAV Change for "&Input!$C$5&" " -> Estimated Total EAV Change for 2023 | I5: =Input!$C$33 -> #DIV/0!
I7: Scenario Assumptions
B8: Original Estimate | C8: Scenario Actual | H8: ="Actual % Change to Existing EAV for "&Input!$C$5&" " -> Actual % Change to Existing EAV for 2023 | J8: Enter What If...? Existing EAV Assumption or, Final Actual to Stress Test the Levy
H9: ="Actual New Property for "&Input!$C$5&" " -> Actual New Property for 2023 | J9: Enter What If...? New Property Assumption or, Final Actual to Stress Test the Levy
A10: Limiting Rate | B10: =IF(Input!C15="Yes",Input!$D$55*(1+MIN(0.05,Input!$C$24))/(Input!$C$32-Input!$C$30)*100,"N/A") -> N/A | C10: =IF(Input!C15="Yes",Input!$D$55*(1+MIN(0.05,Input!$C$24))/(I10-I9)*100,"N/A") -> N/A | H10: ="Actual Total EAV for "&Input!$C$5&" " -> Actual Total EAV for 2023 | I10: =Input!C26*(1+Extension!I8)+Extension!I9 -> 0
A11: Capped Extension | B11: =IF(Input!C15="Yes",($B$10*Input!$C$32)/100,"N/A") -> N/A | C11: =IF(Input!C15="Yes",($C$10*$I$10)/100,"N/A") -> N/A | H11: ="Actual Total EAV Change for "&Input!$C$5&" " -> Actual Total EAV Change for 2023 | I11: =I10/Input!$C$26-1 -> #DIV/0!
J12: Does This Levy Capture All Available Property Taxes Under These Assumptions?
H13: Reduction Factor | I13: =IF(C10>G32,"N/A",$C$10/$G$32) -> N/A | J13: =IF(Input!C15="No"," YES - All Available Property Tax Dollars Have Been Captured"," YES - All Available Tax Capped Dollars Have Been Captured") -> YES - All Available Property Tax Dollars Have Been Captured
H14: =IF(Input!C15="Yes","Amount Below Allowable PTELL ","Amount Below Available Extension ") -> Amount Below Available Extension | I14: =IF(Input!C15="No",IF(Extension!I32<Extension!H32,Extension!I32-Extension!H32,""),IF(I13="N/A",I32-C11,"")) -> #VALUE! | J14: =IF(I14<0," ALERT - Levy Increase Needed to Capture All Available Property Taxes","") -> #VALUE!
G16: =IF(Input!C15="No","Maximum Extension Factor",IF(Input!C17="no","Maximum Calculated Tax Rate","Maximum Tax Rate using Prior Year EAV")) -> Maximum Extension Factor | H16: =IF(Input!C15="No","Scenario Calculated Maximum Extension ","Maximum Allowable Extension") -> Scenario Calculated Maximum Extension | I16: =IF(Input!$C$15="Yes","Maximum Allowable Extension x Reduction Factor","Scenario Calculated Extension") -> Scenario Calculated Extension | J16: Final Tax Rate | N16: Final Adjusted Tax Rate
B17: Current Levy Amount | C17: County Loss % | E17: Total Levy with County Loss % | F17: Scenario Calculated Tax Rate | L17: Spring Extension Adjustment Between Funds | M17: Final Adjusted Extension
A18: =Calculations!A14 -> Corporate | B18: =Calculations!J14 -> 0 | C18: 0 | E18: =B18*(1+C18) -> 0 | F18: =(E18/$I$10)*100 -> #DIV/0! | G18: =IF(Input!$C$15="No",IF(Input!C42>0,Input!C42,"Levy"),IF(Input!$C$17="no",IF(Input!C42>0,MIN(Input!C42,F18),F18),IF(Input!C42>0,MIN(Input!C42,Input!C42*(Input!$C$26+$I$9)/Extension!$I$10,F18),F18))) -> Levy | H18: =IF(G18="Levy",E18,((G18*$I$10)/100)) -> 0 | I18: =IF(Input!$C$15="Yes",IF($I$13="N/A",H18,H18*$I$13),IF(Extension!E18<Extension!H18,Extension!E18,Extension!H18)) -> 0 | J18: =(I18/$I$10)*100 -> #DIV/0! | L18: 0 | M18: =I18+L18 -> 0 | N18: =IF(M18=0,0,M18/$I$10)*100 -> 0
A19: =Calculations!A15 -> Working Cash Funds | B19: =Calculations!J15 -> 0 | C19: 0 | E19: =B19*(1+C19) -> 0 | F19: =(E19/$I$10)*100 -> #DIV/0! | G19: =IF(Input!$C$15="No",IF(Input!C43>0,Input!C43,"Levy"),IF(Input!$C$17="no",IF(Input!C43>0,MIN(Input!C43,F19),F19),IF(Input!C43>0,MIN(Input!C43,Input!C43*(Input!$C$26+$I$9)/Extension!$I$10,F19),F19))) -> Levy | H19: =IF(G19="Levy",E19,((G19*$I$10)/100)) -> 0 | I19: =IF(Input!$C$15="Yes",IF($I$13="N/A",H19,H19*$I$13),IF(Extension!E19<Extension!H19,Extension!E19,Extension!H19)) -> 0 | J19: =(I19/$I$10)*100 -> #DIV/0! | L19: 0 | M19: =I19+L19 -> 0 | N19: =IF(M19=0,0,M19/$I$10)*100 -> 0
A20: =Calculations!A16 -> Audit | B20: =Calculations!J16 -> 0 | C20: 0 | E20: =B20*(1+C20) -> 0 | F20: =(E20/$I$10)*100 -> #DIV/0! | G20: =IF(Input!$C$15="No",IF(Input!C44>0,Input!C44,"Levy"),IF(Input!$C$17="no",IF(Input!C44>0,MIN(Input!C44,F20),F20),IF(Input!C44>0,MIN(Input!C44,Input!C44*(Input!$C$26+$I$9)/Extension!$I$10,F20),F20))) -> Levy | H20: =IF(G20="Levy",E20,((G20*$I$10)/100)) -> 0 | I20: =IF(Input!$C$15="Yes",IF($I$13="N/A",H20,H20*$I$13),IF(Extension!E20<Extension!H20,Extension!E20,Extension!H20)) -> 0 | J20: =(I20/$I$10)*100 -> #DIV/0! | L20: 0 | M20: =I20+L20 -> 0 | N20: =IF(M20=0,0,M20/$I$10)*100 -> 0
A21: =Calculations!A17 -> Municipal Retirement | B21: =Calculations!J17 -> #VALUE! | C21: 0 | E21: =B21*(1+C21) -> #VALUE! | F21: =(E21/$I$10)*100 -> #VALUE! | G21: =IF(Input!$C$15="No",IF(Input!C45>0,Input!C45,"Levy"),IF(Input!$C$17="no",IF(Input!C45>0,MIN(Input!C45,F21),F21),IF(Input!C45>0,MIN(Input!C45,Input!C45*(Input!$C$26+$I$9)/Extension!$I$10,F21),F21))) -> Levy | H21: =IF(G21="Levy",E21,((G21*$I$10)/100)) -> #VALUE! | I21: =IF(Input!$C$15="Yes",IF($I$13="N/A",H21,H21*$I$13),IF(Extension!E21<Extension!H21,Extension!E21,Extension!H21)) -> #VALUE! | J21: =(I21/$I$10)*100 -> #VALUE! | L21: 0 | M21: =I21+L21 -> #VALUE! | N21: =IF(M21=0,0,M21/$I$10)*100 -> #VALUE!
A22: =Calculations!A18 -> Unemployment Insurance | B22: =Calculations!J18 -> #VALUE! | C22: 0 | E22: =B22*(1+C22) -> #VALUE! | F22: =(E22/$I$10)*100 -> #VALUE! | G22: =IF(Input!$C$15="No",IF(Input!C46>0,Input!C46,"Levy"),IF(Input!$C$17="no",IF(Input!C46>0,MIN(Input!C46,F22),F22),IF(Input!C46>0,MIN(Input!C46,Input!C46*(Input!$C$26+$I$9)/Extension!$I$10,F22),F22))) -> Levy | H22: =IF(G22="Levy",E22,((G22*$I$10)/100)) -> #VALUE! | I22: =IF(Input!$C$15="Yes",IF($I$13="N/A",H22,H22*$I$13),IF(Extension!E22<Extension!H22,Extension!E22,Extension!H22)) -> #VALUE! | J22: =(I22/$I$10)*100 -> #VALUE! | L22: 0 | M22: =I22+L22 -> #VALUE! | N22: =IF(M22=0,0,M22/$I$10)*100 -> #VALUE!
A23: =Calculations!A19 -> Workman's Compensation | B23: =Calculations!J19 -> #VALUE! | C23: 0 | E23: =B23*(1+C23) -> #VALUE! | F23: =(E23/$I$10)*100 -> #VALUE! | G23: =IF(Input!$C$15="No",IF(Input!C47>0,Input!C47,"Levy"),IF(Input!$C$17="no",IF(Input!C47>0,MIN(Input!C47,F23),F23),IF(Input!C47>0,MIN(Input!C47,Input!C47*(Input!$C$26+$I$9)/Extension!$I$10,F23),F23))) -> Levy | H23: =IF(G23="Levy",E23,((G23*$I$10)/100)) -> #VALUE! | I23: =IF(Input!$C$15="Yes",IF($I$13="N/A",H23,H23*$I$13),IF(Extension!E23<Extension!H23,Extension!E23,Extension!H23)) -> #VALUE! | J23: =(I23/$I$10)*100 -> #VALUE! | L23: 0 | M23: =I23+L23 -> #VALUE! | N23: =IF(M23=0,0,M23/$I$10)*100 -> #VALUE!
A24: =Calculations!A20 -> Social Security | B24: =Calculations!J20 -> #VALUE! | C24: 0 | E24: =B24*(1+C24) -> #VALUE! | F24: =(E24/$I$10)*100 -> #VALUE! | G24: =IF(Input!$C$15="No",IF(Input!C48>0,Input!C48,"Levy"),IF(Input!$C$17="no",IF(Input!C48>0,MIN(Input!C48,F24),F24),IF(Input!C48>0,MIN(Input!C48,Input!C48*(Input!$C$26+$I$9)/Extension!$I$10,F24),F24))) -> Levy | H24: =IF(G24="Levy",E24,((G24*$I$10)/100)) -> #VALUE! | I24: =IF(Input!$C$15="Yes",IF($I$13="N/A",H24,H24*$I$13),IF(Extension!E24<Extension!H24,Extension!E24,Extension!H24)) -> #VALUE! | J24: =(I24/$I$10)*100 -> #VALUE! | L24: 0 | M24: =I24+L24 -> #VALUE! | N24: =IF(M24=0,0,M24/$I$10)*100 -> #VALUE!
A25: =Calculations!A21 -> Liability Insurance | B25: =Calculations!J21 -> #VALUE! | C25: 0 | E25: =B25*(1+C25) -> #VALUE! | F25: =(E25/$I$10)*100 -> #VALUE! | G25: =IF(Input!$C$15="No",IF(Input!C49>0,Input!C49,"Levy"),IF(Input!$C$17="no",IF(Input!C49>0,MIN(Input!C49,F25),F25),IF(Input!C49>0,MIN(Input!C49,Input!C49*(Input!$C$26+$I$9)/Extension!$I$10,F25),F25))) -> Levy | H25: =IF(G25="Levy",E25,((G25*$I$10)/100)) -> #VALUE! | I25: =IF(Input!$C$15="Yes",IF($I$13="N/A",H25,H25*$I$13),IF(Extension!E25<Extension!H25,Extension!E25,Extension!H25)) -> #VALUE! | J25: =(I25/$I$10)*100 -> #VALUE! | L25: 0 | M25: =I25+L25 -> #VALUE! | N25: =IF(M25=0,0,M25/$I$10)*100 -> #VALUE!
A26: =Calculations!A22 -> Buildings Equipment and Maintenance | B26: =Calculations!J22 -> 0 | C26: 0 | E26: =B26*(1+C26) -> 0 | F26: =(E26/$I$10)*100 -> #DIV/0! | G26: =IF(Input!$C$15="No",IF(Input!C50>0,Input!C50,"Levy"),IF(Input!$C$17="no",IF(Input!C50>0,MIN(Input!C50,F26),F26),IF(Input!C50>0,MIN(Input!C50,Input!C50*(Input!$C$26+$I$9)/Extension!$I$10,F26),F26))) -> Levy | H26: =IF(G26="Levy",E26,((G26*$I$10)/100)) -> 0 | I26: =IF(Input!$C$15="Yes",IF($I$13="N/A",H26,H26*$I$13),IF(Extension!E26<Extension!H26,Extension!E26,Extension!H26)) -> 0 | J26: =(I26/$I$10)*100 -> #DIV/0! | L26: 0 | M26: =I26+L26 -> 0 | N26: =IF(M26=0,0,M26/$I$10)*100 -> 0
A27: =Calculations!A23 -> Custom 1 | B27: =Calculations!J23 -> 0 | C27: 0 | E27: =B27*(1+C27) -> 0 | F27: =(E27/$I$10)*100 -> #DIV/0! | G27: =IF(Input!$C$15="No",IF(Input!C51>0,Input!C51,"Levy"),IF(Input!$C$17="no",IF(Input!C51>0,MIN(Input!C51,F27),F27),IF(Input!C51>0,MIN(Input!C51,Input!C51*(Input!$C$26+$I$9)/Extension!$I$10,F27),F27))) -> Levy | H27: =IF(G27="Levy",E27,((G27*$I$10)/100)) -> 0 | I27: =IF(Input!$C$15="Yes",IF($I$13="N/A",H27,H27*$I$13),IF(Extension!E27<Extension!H27,Extension!E27,Extension!H27)) -> 0 | J27: =(I27/$I$10)*100 -> #DIV/0! | L27: 0 | M27: =I27+L27 -> 0 | N27: =IF(M27=0,0,M27/$I$10)*100 -> 0
A28: =Calculations!A24 -> Custom 2 | B28: =Calculations!J24 -> 0 | C28: 0 | E28: =B28*(1+C28) -> 0 | F28: =(E28/$I$10)*100 -> #DIV/0! | G28: =IF(Input!$C$15="No",IF(Input!C52>0,Input!C52,"Levy"),IF(Input!$C$17="no",IF(Input!C52>0,MIN(Input!C52,F28),F28),IF(Input!C52>0,MIN(Input!C52,Input!C52*(Input!$C$26+$I$9)/Extension!$I$10,F28),F28))) -> Levy | H28: =IF(G28="Levy",E28,((G28*$I$10)/100)) -> 0 | I28: =IF(Input!$C$15="Yes",IF($I$13="N/A",H28,H28*$I$13),IF(Extension!E28<Extension!H28,Extension!E28,Extension!H28)) -> 0 | J28: =(I28/$I$10)*100 -> #DIV/0! | L28: 0 | M28: =I28+L28 -> 0 | N28: =IF(M28=0,0,M28/$I$10)*100 -> 0
A29: =Calculations!A25 -> Custom 3 | B29: =Calculations!J25 -> 0 | C29: 0 | E29: =B29*(1+C29) -> 0 | F29: =(E29/$I$10)*100 -> #DIV/0! | G29: =IF(Input!$C$15="No",IF(Input!C53>0,Input!C53,"Levy"),IF(Input!$C$17="no",IF(Input!C53>0,MIN(Input!C53,F29),F29),IF(Input!C53>0,MIN(Input!C53,Input!C53*(Input!$C$26+$I$9)/Extension!$I$10,F29),F29))) -> Levy | H29: =IF(G29="Levy",E29,((G29*$I$10)/100)) -> 0 | I29: =IF(Input!$C$15="Yes",IF($I$13="N/A",H29,H29*$I$13),IF(Extension!E29<Extension!H29,Extension!E29,Extension!H29)) -> 0 | J29: =(I29/$I$10)*100 -> #DIV/0! | L29: 0 | M29: =I29+L29 -> 0 | N29: =IF(M29=0,0,M29/$I$10)*100 -> 0
L30: =-L32 -> 0 | M30: =IF(L30<0," Extension Reduction Needed, Net to $0"," Extension Increase Needed, Net to $0") -> Extension Increase Needed, Net to $0
A32: =IF(Input!C15="Yes","Capped Levy/Extension/Rate ","Levy/Extension/Rate ") -> Levy/Extension/Rate | B32: =SUM(B18:B29) -> #VALUE! | E32: =SUM(E18:E29) -> #VALUE! | F32: =SUM(F18:F29) -> #DIV/0! | G32: =SUM(G18:G29) -> 0 | H32: =SUM(H18:H29) -> #VALUE! | I32: =SUM(I18:I30) -> #VALUE! | J32: =(I32/$I$10)*100 -> #VALUE! | L32: =SUM(L18:L29) -> 0 | M32: =SUM(M18:M29) -> #VALUE! | N32: =SUM(N18:N29) -> #VALUE!
A34: Special Recreation Levy | B34: =Calculations!J32 -> 0 | H34: Actual Special Recreation Extension/Rate | I34: =MIN(B34,I10*MIN(4%,Calculations!F31)/100) -> 0 | J34: =MIN((I34/$I$10)*100,I34/I10*100) -> #DIV/0! | L34: =IF(J34<Calculations!F31,(J34-Calculations!F31)*I10/100,"") -> #DIV/0! | N34: =J34 -> #DIV/0!
L35: =IF(L34<0," ALERT - Special Recreation Levy Increase Needed","") -> #DIV/0!
A36: Bond & Interest Levy | B36: =Calculations!J34 -> 0 | H36: Actual Bond & Interest Extension/Rate | J36: =(I36/$I$10)*100 -> #DIV/0! | K36: Includes Loss % Added by County Clerk(s) | N36: =J36 -> #DIV/0!
A38: Total Levy | B38: =B32+B36+B34 -> #VALUE! | H38: Actual Total Extension/Rate | I38: =I32+I36+I34 -> #VALUE! | J38: =J32+J34+J36 -> #VALUE! | N38: =N32+N34+N36 -> #VALUE!

Sheet Tax Calculator - Extension
F1: Legend
A2: =Input!$C$5&" Taxpayer Impact Calculation Page" -> 2023 Taxpayer Impact Calculation Page | F2: District Assumptions & Data Entry
F3: Calculated Values
B4: Scenario Assumptions from Extension Tab | F4: Review Needed | M4: Taxpayer Impact
A6: =Extension!H8 -> Actual % Change to Existing EAV for 2023 | B6: =Extension!I8 -> 0 | L6: =(Input!$C$5-1)& " Fair Cash / Market Value Home" -> 2022 Fair Cash / Market Value Home
A7: ="Actual EAV Value for "& Input!C5&" " -> Actual EAV Value for 2023 | B7: =Input!C26*(1+B6) -> 0 | Z7: ='[1]Tax Calculator - Calculations'!Z7 -> 3.0027 | AB7: LY22
L8: ="Estimated "&Input!C5&" Fair Cash Value Home" -> Estimated 2023 Fair Cash Value Home | M8: =M6*(1+B6) -> 0 | N8: Includes EAV % Change | X8: Cook | Y8: 0.1 | Z8: ='[1]Tax Calculator - Calculations'!Z8 -> 3.0027 | AA8: 10000 | AB8: 10000
A9: =Extension!H9 -> Actual New Property for 2023 | B9: =Extension!I9 -> 0 | X9: DuPage | Y9: =((1/3)*100)% -> 0.33333333 | Z9: ='[1]Tax Calculator - Calculations'!Z9 -> 1 | AA9: 8000 | AB9: 6000
A10: ="Actual Total EAV Value for "& Input!C5&" " -> Actual Total EAV Value for 2023 | B10: =B7+B9 -> 0 | C10: Includes New Property | L10: Total Assessed Value | M10: =M8*N10 -> 0 | N10: =IF(Input!$C$9="Cook",'Tax Calculator - Extension'!Y8,'Tax Calculator - Extension'!Y9) -> 0.33333333 | X10: Lake | AA10: 8000
L11: State Equalization Multiplier | M11: =M10*N11 -> 0 | N11: =IF(Input!$C$9="Cook",'Tax Calculator - Extension'!Z8,'Tax Calculator - Extension'!Z9) -> 1 | X11: McHenry | AA11: 8000
A12: =Input!$C$5-1&" Operating Rate" -> 2022 Operating Rate | B12: =(Input!D55/Input!C26)*100 -> #DIV/0! | X12: Kane | AA12: 8000
A13: ="Estimated "&Input!$C$5&" Operating Rate" -> Estimated 2023 Operating Rate | B13: =Extension!N32 -> #VALUE! | L13: Homestead Exemption LY22 | M13: =IF(Input!$C$9="Cook",'Tax Calculator - Extension'!AB8,AB9) -> 6000 | N13: Based on County 1 on the input tab | X13: Will | AA13: 8000
A14: ="Actual "&Input!C5&" Bond & Interest Tax Rate" -> Actual 2023 Bond & Interest Tax Rate | B14: =((Extension!I36*(1+B16)/B10*100)+0.0000001) -> #DIV/0! | C14: Includes Loss Cost | E14: If the actual Bond & Interest extension is known and input on the "Extension" tab in cell I36, no input is needed for the Loss Cost and Abatement cells. | L14: Homestead Exemption LY23 | M14: =IF(Input!$C$9="Cook",'Tax Calculator - Extension'!AA8,IF(Input!$C$9="DuPage",'Tax Calculator - Extension'!AA9,IF(Input!C9="Lake",'Tax Calculator - Extension'!AA10,IF(Input!C9="McHenry",'Tax Calculator - Extension'!AA11,IF(Input!C9="Kane",'Tax Calculator - Extension'!AA12,IF(Input!C9="Will",'Tax Calculator - Extension'!AA13,AA14)))))) -> 6000 | AA14: 6000
A16: Bond & Interest Lost Cost (%) | L16: Net Equalized Assessed Value | M16: =M11-M14 -> -6000
A18: Bond & Interest Abatement | B18: 0 | C18: Enter debt service to be abated | L18: ="Estimated Change in Tax Payment for "& Input!C5 -> Estimated Change in Tax Payment for 2023 | M18: =(M16*(B23)/100)-(((((M6*N10)*IF(Input!C9="Cook",Z7,Z9))-M13)*(B24)/100)) -> #DIV/0!
A19: Bond & Interest Rate Abatement | B19: =((B18*(1+B16))/B10*100) -> #DIV/0! | C19: Cannot exceed estimated B&I Tax Rate
I20: ="Note, the calculator is intended to estimate the "&Input!C7&" portion of the tax bill." -> Note, the calculator is intended to estimate the portion of the tax bill.
A21: ="Net "&Input!$C$5&" B&I Tax Rate" -> Net 2023 B&I Tax Rate | B21: =(IF(B14>B19,B14-B19,"Check Abatement")) -> #DIV/0! | I21: It does not include property taxes paid for other District purposes and to other governments. Actual tax rates and payments may vary based on District-wide EAV growth, individual homeowner reassessment, State Law changes, property tax rate initiatives and other factors.
A23: ="Total "&Input!$C$5&" Tax Rate" -> Total 2023 Tax Rate | B23: =B21+B13 -> #DIV/0!
A24: Total Prior Year's Tax Rate | B24: =Input!D61/Input!C26*100 -> #DIV/0!

Sheet InfoPage
A1: Password: | B1: CTL02
