Workbook

Sheet Disclaimer

Sheet Instructions
A1: Please read the "Discalimer" worksheet. Use of this workbook represents acceptance of the terms of the Disclaimer.

Sheet Input
A1: Please read the "Disclaimer" worksheet. Use of this workbook represents acceptance of the terms of the Disclaimer.
A2: If you have a question, please contact any member of our municipal advisory team listed below:
A3: Bob Lewis:
A4: Andrew Kim: | B4: akim@pmanetwork.com
A5: Steve Adams: | B5: sadams@pmanetwork.com
A6: (Note: This notice will not print with the rest of the page.)
A7: LEVY INPUT PAGE - ASSUMPTIONS | F7: Legend | AB7: Yes
F8: District Assumptions & Data Entry | AB8: No
B9: Tax Levy Year | C9: 2024 | F9: Calculated Values
F10: Review Needed
B11: District Name | D11: Enter District Name
B12: District Number | D12: Enter District Number
B13: Aggregate or County 1 | D13: Enter County 1 Name or Enter "Aggregate" to enter Aggregate Extension Below
B14: County 2 | D14: Enter County 2 Name to Itemize County Extension Below
B15: County 3 | D15: Enter County 3 Name to Itemize County Extension Below
B16: County 4 | D16: Enter County 4 Name to Itemize County Extension Below
C17: Fill out County names as needed - leave other boxes blank
B19: PTELL - Tax Capped | C19: Yes | D19: Choose Yes or No | E19: Critical Assumptions - Formulas in this workbook are dependent on assumptions entered for PTELL & Cook County questions
B21: Cook County Prior Year EAV Limit | C21: No | D21: Choose Yes or No
B23: Original Tax Levy Certificate | C23: x
B24: Amended Tax Levy Certificate
C25: Enter "x" in one box only
B28: Lesser of 5% or Consumer Price Index | C28: 0.034 | D28: =" Lesser of 5% or CPI for Year Ending "&C9-1&", Applies to the "&C9&" Levy" -> Lesser of 5% or CPI for Year Ending 2023, Applies to the 2024 Levy
B30: ="Actual Rate Setting EAV for "&C9-1&" " -> Actual Rate Setting EAV for 2023 | D30: =" Enter Actual Rate Setting EAV for "&C9-1&"" -> Enter Actual Rate Setting EAV for 2023
B32: ="Preliminary Figure Available for "&C9&" EAV? " -> Preliminary Figure Available for 2024 EAV? | C32: No | D32: If entering a dollar amount for EAV, please select "Yes," if growth %, please select "No"
B34: ="Estimated Existing EAV % Change for "&C9&" " -> Estimated Existing EAV % Change for 2024 | D34: =IF(C19="Yes","Enter Reassessment Percentage Before New Property","Enter Reassessment Percentage") -> Enter Reassessment Percentage Before New Property
B36: ="Estimated or Preliminary EAV for "&C9&" " -> Estimated or Preliminary EAV for 2024
G37: Cook County
B38: ="Estimated New Property for "&C9&" " -> Estimated New Property for 2024 | D38: Enter Estimated New Property | G38: Triennial Reassessment Cycle
G39: City of Chicago - 2024
B40: ="Estimated Total EAV for "&C9&" " -> Estimated Total EAV for 2024 | C40: =IF($C$19="Yes",C30*(1+C34)+C38,IF($C$32="No",C30*(1+C34),C36)) -> 0 | D40: Includes New Property | G40: North Suburbs - 2025
B41: Total % Change From Prior Year | C41: =C40/C30-1 -> #DIV/0! | D41: Includes New Property | G41: South & West Suburbs - 2026
B43: No. of Tax Levied Bond Issues Outstanding | D43: Flow-through to Certificate of Tax Levy, Verify Records with County Clerk(s)
E45: Note, do not include the amount of PTAB revenue recapture added to the extension pursuant to Public Act 102-0519.
C49: Input Statutory Maximum Tax Rate | D49: ="Total "&C9-1&" Extension for all Counties" -> Total 2023 Extension for all Counties | E49: ="Input "&C9-1&" "&C13&" County Extension" -> Input 2023 County Extension | F49: =IF(C14="","","Input "&C9-1&" "&C14&" County Extension:") | G49: =IF(C15="","","Input "&C9-1&" "&C15&" County Extension:") | H49: =IF(C16="","","Input "&C9-1&" "&C16&" County Extension:")
A50: =IF($C$19="Yes","N/A"," ") -> N/A | B50: Corporate | D50: =SUM(E50:H50) -> 0
B51: Working Cash Funds | D51: =SUM(E51:H51) -> 0
A52: =IF($C$19="Yes","N/A"," ") -> N/A | B52: Police Protection | D52: =SUM(E52:H52) -> 0
B53: Auditing | D53: =SUM(E53:H53) -> 0
B54: Municipal Retirement | D54: =SUM(E54:H54) -> 0
...

Sheet Calculations
H1: Original Assumptions | J1: Legend
A2: =Input!$C$9&" LEVY CALCULATION PAGE " -> 2024 LEVY CALCULATION PAGE | G2: Consumer Price Index | H2: =Input!$C$28 -> 0.034 | J2: District Assumptions & Data Entry
G3: ="Actual Total EAV for "&Input!C9-1&" " -> Actual Total EAV for 2023 | H3: =Input!$C$30 -> 0 | J3: Calculated Values
J4: Review Needed
A5: Limiting Rate: | B5: (Prior Year Extension x (1+Lesser of 5% or CPI)) | G5: ="Estimated Existing EAV % change for "&Input!C9&" " -> Estimated Existing EAV % change for 2024 | H5: =IF(Input!$C$19="Yes",Input!$C$34,Input!$C$41) -> 0
B6: (Total EAV - New Property) | G6: ="Estimated Existing EAV Value for "&Input!C9&" " -> Estimated Existing EAV Value for 2024 | H6: =H3*(1+H5) -> 0
G8: ="Estimated New Property for "&[1]Input!C9&" " -> Estimated New Property for 2024 | H8: =IF(Input!$C$19="No",0,Input!$C$38) -> 0
A9: Limiting Rate | B9: =IF(Input!C19="Yes",Input!D68*(1+MIN(0.05,Input!$C$28))/(Input!$C$40-Input!C38)*100,"N/A") -> #DIV/0!
A10: Estimated Capped Extension | B10: =IF(Input!C19="Yes",(B9*Input!C40)/100,"N/A") -> #DIV/0! | G10: ="Estimated Total EAV for "&Input!C9&" " -> Estimated Total EAV for 2024 | H10: =Input!$C$40 -> 0 | I10: Includes New Property
G11: ="Estimated Total EAV % change for "&Input!C9&" " -> Estimated Total EAV % change for 2024 | H11: =Input!$C$41 -> #DIV/0! | I11: Includes New Property
F12: =IF(Input!C19="Yes","Weighted Extension Based on Prior Year Extension","Individual Fund Estimated Maximum Extension") -> Weighted Extension Based on Prior Year Extension | G12: =IF(Input!C19="Yes","Levy Amount $","Levy Amount $") -> Levy Amount $ | H12: Levy Increase %
B13: Prior Year Extension | C13: Statutory Maximum Tax Rate | D13: =IF(Input!$C$21="no","Individual Fund Estimated Maximum Extension","Individual Fund Estimated Maximum Extension using Prior Year EAV") -> Individual Fund Estimated Maximum Extension | J13: Final Levy Amount | K13: Does Levy Amount Exceed Estimated Maximum Extension?
A14: =Input!B50 -> Corporate | B14: =Input!D50 -> 0 | C14: =Input!C50 -> 0 | D14: =IF(Input!$C$21="no",C14*Input!$C$40,C14*($H$3+$H$8))/100 -> 0 | F14: =IF(Input!$C$19="Yes",B14/$B$33*$B$10,D14) -> #DIV/0! | J14: =ROUNDUP(IF(G14="",F14*(1+H14),G14*(1+H14)),0) -> #DIV/0! | K14: =IF(Input!$C$19="Yes","",IF(J14>=D14,"YES","NO"))
A15: =Input!B51 -> Working Cash Funds | B15: =Input!D51 -> 0 | C15: =Input!C51 -> 0 | D15: =IF(Input!$C$21="no",C15*Input!$C$40,C15*($H$3+$H$8))/100 -> 0 | F15: =IF(Input!$C$19="Yes",B15/$B$33*$B$10,D15) -> #DIV/0! | J15: =ROUNDUP(IF(G15="",F15*(1+H15),G15*(1+H15)),0) -> #DIV/0! | K15: =IF(Input!$C$19="Yes","",IF(J15>=D15,"YES","NO"))
A16: =Input!B52 -> Police Protection | B16: =Input!D52 -> 0 | C16: =Input!C52 -> 0 | D16: =IF(Input!$C$21="no",C16*Input!$C$40,C16*($H$3+$H$8))/100 -> 0 | F16: =IF(Input!$C$19="Yes",B16/$B$33*$B$10,D16) -> #DIV/0! | J16: =ROUNDUP(IF(G16="",F16*(1+H16),G16*(1+H16)),0) -> #DIV/0! | K16: =IF(Input!$C$19="Yes","",IF(J16>=D16,"YES","NO"))
A17: =Input!B53 -> Auditing | B17: =Input!D53 -> 0 | C17: =Input!C53 -> 0 | D17: =IF(Input!$C$21="no",C17*Input!$C$40,C17*($H$3+$H$8))/100 -> 0 | F17: =IF(Input!$C$19="Yes",B17/$B$33*$B$10,D17) -> #DIV/0! | J17: =ROUNDUP(IF(G17="",F17*(1+H17),G17*(1+H17)),0) -> #DIV/0! | K17: =IF(Input!$C$19="Yes","",IF(J17>=D17,"YES","NO"))
A18: =Input!B54 -> Municipal Retirement | B18: =Input!D54 -> 0 | C18: =Input!C54 -> 0 | D18: =IF(Input!C19="Yes","$0.00 ","Input in Manual Override") -> $0.00 | F18: =IF(Input!$C$19="Yes",B18/$B$33*$B$10,"Levy Amount $ Required") -> #DIV/0! | J18: =ROUND(IF(G18="",F18*(1+H18),G18*(1+H18)),0) -> #DIV/0! | K18: =IF(Input!$C$19="Yes"," ","N/A")
A19: =Input!B55 -> Unemployment Insurance | B19: =Input!D55 -> 0 | C19: =Input!C55 -> 0 | D19: =IF(Input!C20="Yes","$0.00 ","Input in Manual Override") -> Input in Manual Override | F19: =IF(Input!$C$19="Yes",B19/$B$33*$B$10,"Levy Amount $ Required") -> #DIV/0! | J19: =ROUND(IF(G19="",F19*(1+H19),G19*(1+H19)),0) -> #DIV/0! | K19: =IF(Input!$C$19="Yes"," ","N/A")
A20: =Input!B56 -> Workman's Compensation | B20: =Input!D56 -> 0 | C20: =Input!C56 -> 0 | D20: =IF(Input!C21="Yes","$0.00 ","Input in Manual Override") -> Input in Manual Override | F20: =IF(Input!$C$19="Yes",B20/$B$33*$B$10,"Levy Amount $ Required") -> #DIV/0! | J20: =ROUND(IF(G20="",F20*(1+H20),G20*(1+H20)),0) -> #DIV/0! | K20: =IF(Input!$C$19="Yes"," ","N/A")
A21: =Input!B57 -> Social Security | B21: =Input!D57 -> 0 | C21: =Input!C57 -> 0 | D21: =IF(Input!C19="Yes","$0.00 ","Input in Manual Override") -> $0.00 | F21: =IF(Input!$C$19="Yes",B21/$B$33*$B$10,"Levy Amount $ Required") -> #DIV/0! | J21: =ROUND(IF(G21="",F21*(1+H21),G21*(1+H21)),0) -> #DIV/0! | K21: =IF(Input!$C$19="Yes"," ","N/A")
A22: =Input!B58 -> Recreation | B22: =Input!D58 -> 0 | C22: =Input!C58 -> 0 | D22: =IF(Input!$C$21="no",C22*Input!$C$40,C22*($H$3+$H$8))/100 -> 0 | F22: =IF(Input!$C$19="Yes",B22/$B$33*$B$10,D22) -> #DIV/0! | J22: =ROUNDUP(IF(G22="",F22*(1+H22),G22*(1+H22)),0) -> #DIV/0! | K22: =IF(Input!$C$19="Yes","",IF(J22>=D22,"YES","NO"))
A23: =Input!B59 -> Liability Insurance | B23: =Input!D59 -> 0 | C23: =Input!C59 -> 0 | D23: =IF(Input!C19="Yes","$0.00 ","Input in Manual Override") -> $0.00 | F23: =IF(Input!$C$19="Yes",B23/$B$33*$B$10,"Levy Amount $ Required") -> #DIV/0! | J23: =ROUND(IF(G23="",F23*(1+H23),G23*(1+H23)),0) -> #DIV/0! | K23: =IF(Input!$C$19="Yes"," ","N/A")
A24: =Input!B60 -> Paving/Lighting | B24: =Input!D60 -> 0 | C24: =Input!C60 -> 0 | D24: =IF(Input!$C$21="no",C24*Input!$C$40,C24*($H$3+$H$8))/100 -> 0 | F24: =IF(Input!$C$19="Yes",B24/$B$33*$B$10,D24) -> #DIV/0! | J24: =ROUNDUP(IF(G24="",F24*(1+H24),G24*(1+H24)),0) -> #DIV/0! | K24: =IF(Input!$C$19="Yes","",IF(J24>=D24,"YES","NO"))
A25: =Input!B61 -> Public Benefit | B25: =Input!D61 -> 0 | C25: =Input!C61 -> 0 | D25: =IF(Input!$C$21="no",C25*Input!$C$40,C25*($H$3+$H$8))/100 -> 0 | F25: =IF(Input!$C$19="Yes",B25/$B$33*$B$10,D25) -> #DIV/0! | J25: =ROUNDUP(IF(G25="",F25*(1+H25),G25*(1+H25)),0) -> #DIV/0! | K25: =IF(Input!$C$19="Yes","",IF(J25>=D25,"YES","NO"))
A26: =Input!B62 -> Museum | B26: =Input!D62 -> 0 | C26: =Input!C62 -> 0 | D26: =IF(Input!$C$21="no",C26*Input!$C$40,C26*($H$3+$H$8))/100 -> 0 | F26: =IF(Input!$C$19="Yes",B26/$B$33*$B$10,D26) -> #DIV/0! | J26: =ROUNDUP(IF(G26="",F26*(1+H26),G26*(1+H26)),0) -> #DIV/0! | K26: =IF(Input!$C$19="Yes","",IF(J26>=D26,"YES","NO"))
A27: =Input!B63 -> Public Safety and Security | B27: =Input!D63 -> 0 | C27: =Input!C63 -> 0 | D27: =IF(Input!$C$21="no",C27*Input!$C$40,C27*($H$3+$H$8))/100 -> 0 | F27: =IF(Input!$C$19="Yes",B27/$B$33*$B$10,D27) -> #DIV/0! | J27: =ROUNDUP(IF(G27="",F27*(1+H27),G27*(1+H27)),0) -> #DIV/0! | K27: =IF(Input!$C$19="Yes","",IF(J27>=D27,"YES","NO"))
A28: =Input!B64 -> Custom 1 | B28: =Input!D64 -> 0 | C28: =Input!C64 -> 0 | D28: =IF(Input!$C$21="no",C28*Input!$C$40,C28*($H$3+$H$8))/100 -> 0 | F28: =IF(Input!$C$19="Yes",B28/$B$33*$B$10,D28) -> #DIV/0! | J28: =ROUNDUP(IF(G28="",F28*(1+H28),G28*(1+H28)),0) -> #DIV/0! | K28: =IF(Input!$C$19="Yes","",IF(J28>=D28,"YES","NO"))
A29: =Input!B65 -> Custom 2 | B29: =Input!D65 -> 0 | C29: =Input!C65 -> 0 | D29: =IF(Input!$C$21="no",C29*Input!$C$40,C29*($H$3+$H$8))/100 -> 0 | F29: =IF(Input!$C$19="Yes",B29/$B$33*$B$10,D29) -> #DIV/0! | J29: =ROUNDUP(IF(G29="",F29*(1+H29),G29*(1+H29)),0) -> #DIV/0! | K29: =IF(Input!$C$19="Yes","",IF(J29>=D29,"YES","NO"))
A30: =Input!B66 -> Custom 3 | B30: =Input!D66 -> 0 | C30: =Input!C66 -> 0 | D30: =IF(Input!$C$21="no",C30*Input!$C$40,C30*($H$3+$H$8))/100 -> 0 | F30: =IF(Input!$C$19="Yes",B30/$B$33*$B$10,D30) -> #DIV/0! | J30: =ROUNDUP(IF(G30="",F30*(1+H30),G30*(1+H30)),0) -> #DIV/0! | K30: =IF(Input!$C$19="Yes","",IF(J30>=D30,"YES","NO"))
A33: =IF(Input!C19="Yes","Capped Extension ","Extension ") -> Capped Extension | B33: =SUM(B14:B30) -> 0 | D33: =SUM(D14:D30) -> 0 | F33: =SUM(F14:F30) -> #DIV/0! | G33: =SUM(G14:G32) -> 0 | I33: =IF(Input!C19="Yes","Capped Levy ","District Levy ") -> Capped Levy | J33: =SUM(J14:J30) -> #DIV/0!
I35: =IF(J35<0,"Levy Amount Below Estimated Extension ","Levy Amount Above Estimated Extension ") -> #DIV/0! | J35: =IF(Input!C19="Yes",J33-B10,"N/A") -> #DIV/0!
D36: Target Rate for Special Recreation Levy | G36: =IF(F36>4%," ALERT - Special Rec. Rate Can Not Exceed 0.04","")
A37: Special Recreation | B37: =Input!D70 -> 0 | D37: Estimated Special Recreation Levy | F37: =IF(F36="","",H10*(MIN(F36,4%))/100) | J37: =G37 -> 0
D39: Target Rate for Museum Levy | G39: =IF(F39>Input!$C$71," ALERT - Museum Rate Can Not Exceed "&Input!$C$71&"","") | K39: Truth in Taxation
A40: Museum | B40: =Input!D71 -> 0 | D40: Estimated Museum Levy | F40: =IF(F39="","",H10*(MIN(F39,Input!$C$71))/100) | J40: =G40 -> 0 | K40: =(J33+J37+J40)/(B33+B37+B40)-1 -> #DIV/0! | L40: =IF(K40>0.05,"YES","NO") -> #DIV/0!
K41: Truth in Taxation Required
A42: Bond & Interest Extension | B42: =Input!D74 -> 0 | F42: Estimated Bond and Interest Levy | I42: Bond & Int. Levy | J42: =G42 -> 0 | K42: =J42/B42-1 -> #DIV/0!
G43: (County Clerk Levies Bond & Interest for the District, Verify Records with County Clerk)
A44: Total Extension | B44: =B33+B42+B37+B40 -> 0 | I44: Total Levy | J44: =J33+J42+J37+J40 -> #DIV/0! | K44: =J44/B44-1 -> #DIV/0!

Sheet copyright_disclaimer
C4: Follow these steps to view and set the macro security level in Excel 2007:
A5: 1. Click the Microsoft Office Button and then click Excel Options.
A6: 2. Click Trust Center, click Trust Center Settings, and then click Macro Settings.
A7: 3. Click the options that you want:
A8: · Disable all macros without notification
A9: · Disable all macros with notification
A10: · Disable all macros except digitally signed macros
A11: · Enable all macros (not recommended, potentially dangerous code can run)
A12: · Trust access to the VBA project object model
C18: Follow these steps to view and set the macro security level in Excel 2010:
C19: 1. Click the File tab and then click Options.
C44: 2. Click the Trust Center tab and then click the Trust Center Settings button.
C45: The Trust Center dialog box appears with the Macro Settings tab selected.
C46: Select a security level: Enable all macros
C93: 3. Close the excel file, reopen the file.

Sheet Tax Calculator - Calculations
F1: Legend
A2: =Input!$C$9&" Taxpayer Impact Calculation Page" -> 2024 Taxpayer Impact Calculation Page | F2: District Assumptions & Data Entry
F3: Calculated Values
B4: Original Assumptions from Calculations Tab | F4: Review Needed | M4: Taxpayer Impact
A6: =Input!B34 -> Estimated Existing EAV % Change for 2024 | B6: =Calculations!$H$5 -> 0 | L6: =(Input!$C$9-1)& " Fair Cash / Market Value Home" -> 2023 Fair Cash / Market Value Home
A7: ="Estimated Existing EAV Value for "& Input!C9&" " -> Estimated Existing EAV Value for 2024 | B7: =Calculations!$H$6 -> 0 | AB7: LY22
L8: ="Estimated "&Input!C9&" Fair Cash Value Home" -> Estimated 2024 Fair Cash Value Home | M8: =M6*(1+B6) -> 0 | N8: Includes EAV % Change | X8: Cook | Y8: 0.1 | Z8: 3.0163 | AA8: 10000 | AB8: 10000
A9: =Input!B38 -> Estimated New Property for 2024 | B9: =Calculations!$H$8 -> 0 | X9: DuPage | Y9: =((1/3)*100)% -> 0.33333333 | Z9: 1 | AA9: 8000 | AB9: 6000
A11: =Input!B40 -> Estimated Total EAV for 2024 | B11: =B7+B9 -> 0 | C11: Includes New Property | L11: Total Assessed Value | M11: =M8*N11 -> 0 | N11: =IF(Input!$C$13="Cook",'Tax Calculator - Calculations'!Y8,'Tax Calculator - Calculations'!Y9) -> 0.33333333 | X11: Lake | AA11: 8000
L12: State Equalization Multiplier | M12: =M11*N12 -> 0 | N12: =IF(Input!$C$13="Cook",'Tax Calculator - Calculations'!Z8,'Tax Calculator - Calculations'!Z9) -> 1 | X12: McHenry | AA12: 8000
A13: =Input!$C$9-1&" Operating Rate" -> 2023 Operating Rate | B13: =(Input!D68/Input!C30)*100 -> #DIV/0! | X13: Kane | AA13: 8000
A14: ="Estimated "&Input!$C$9&" Operating Rate" -> Estimated 2024 Operating Rate | B14: =IF(Input!C19="Yes",IF(Calculations!J33/'Tax Calculator - Calculations'!B11*100>Calculations!B9,Calculations!B9,Calculations!J33/'Tax Calculator - Calculations'!B11*100),(IF(Calculations!J14>Calculations!F14,Calculations!F14,Calculations!J14)+IF(Calculations!J15>Calculations!F15,Calculations!F15,Calculations!J15)+IF(Calculations!J16>Calculations!F16,Calculations!F16,Calculations!J16)+IF(Calculations!J17>Calculations!F17,Calculations!F17,Calculations!J17)+IF(Calculations!J22>Calculations!F22,Calculations!F22,Calculations!J22)+IF(Calculations!J24>Calculations!F24,Calculations!F24,Calculations!J24)+IF(Calculations!J25>Calculations!F25,Calculations!F25,Calculations!J25)+IF(Calculations!J28>Calculations!F28,Calculations!F28,Calculations!J28)+IF(Calculations!J29>Calculations!F29,Calculations!F29,Calculations!J29)+IF(Calculations!J30>Calculations!F30,Calculations!F30,Calculations!J30)+Calculations!J18+Calculations!J19+Calculations!J20+Calculations!J21+Calculations!J23)/B11*100) -> #DIV/0! | N14: Based on County 1 on the input tab | X14: Will | AA14: 8000
A15: ="Estimated "&Input!C9&" Bond & Interest Tax Rate" -> Estimated 2024 Bond & Interest Tax Rate | B15: =((Calculations!G42*(1+B17)/B11*100)+0.0000001) -> #DIV/0! | C15: Includes Loss Cost | L15: Homestead Exemption | M15: =IF(Input!$C$13="Cook",'Tax Calculator - Calculations'!AA8,IF(Input!$C$13="DuPage",'Tax Calculator - Calculations'!AA9,IF(Input!C13="Lake",'Tax Calculator - Calculations'!AA11,IF(Input!C13="McHenry",'Tax Calculator - Calculations'!AA12,IF(Input!C13="Kane",'Tax Calculator - Calculations'!AA13,IF(Input!C13="Will",'Tax Calculator - Calculations'!AA14,AA15)))))) -> 6000 | AA15: 6000
E16: Note, if the B&I levy on the "Calculations" tab was reduced by an expected abatement, it will need to be removed to prevent double counting the abatement.
A17: Bond & Interest Lost Cost (%) | L17: Net Equalized Assessed Value | M17: =M12-M15 -> -6000
A19: Bond & Interest Abatement | C19: Enter debt service to be abated | L19: ="Estimated Change in Tax Payment for "& Input!C9 -> Estimated Change in Tax Payment for 2024 | M19: =(M17*(B27)/100)-(((((M6*N11)*IF(Input!C13="Cook",Z7,Z9))-M15)*(B28)/100)) -> #DIV/0!
A20: Bond & Interest Rate Abatement | B20: =((B19*(1+B17))/B11*100) -> #DIV/0! | C20: Cannot exceed estimated B&I Tax Rate
I21: ="Note, the calculator is intended to estimate the "&Input!C11&" portion of the tax bill." -> Note, the calculator is intended to estimate the portion of the tax bill.
A22: ="Net "&Input!$C$9&" B&I Tax Rate" -> Net 2024 B&I Tax Rate | B22: =(IF(B15>B20,B15-B20,"Check Abatement")) -> #DIV/0! | I22: It does not include the recapture levy or property taxes paid for other District purposes and to other governments. Actual tax rates and payments may vary based on District-wide EAV growth, individual homeowner reassessment, State Law changes, property tax rate initiatives and other factors.
A24: Estimated Special Recreation Rate | B24: =MIN((Calculations!F37),Calculations!G37)/'Tax Calculator - Calculations'!$B$11*100 -> #DIV/0!
A25: Estimated Museum Rate | B25: =MIN((Calculations!F40),Calculations!G40)/'Tax Calculator - Calculations'!$B$11*100 -> #DIV/0!
A27: ="Total "&Input!$C$9&" Tax Rate" -> Total 2024 Tax Rate | B27: =B22+B14+B24+B25 -> #DIV/0!
A28: Total Prior Year's Tax Rate | B28: =Input!D76/Input!C30*100 -> #DIV/0!

Sheet Extension
I1: Original Assumptions | M1: Legend
A2: =Input!$C$9&" TAX EXTENSION WORKSHEET" -> 2024 TAX EXTENSION WORKSHEET | H2: ="Estimated % Change to Existing EAV for "&Input!$C$9&" " -> Estimated % Change to Existing EAV for 2024 | I2: =IF(Input!C19="Yes",Input!C34,Input!C41) -> 0 | M2: District Assumptions & Data Entry
H3: ="Estimated New Property for "&Input!$C$9&" " -> Estimated New Property for 2024 | I3: =Input!$C$38 -> 0 | M3: Calculated Values
H4: ="Estimated Total EAV for "&Input!$C$9&" " -> Estimated Total EAV for 2024 | I4: =Input!$C$40 -> 0 | M4: Review Needed
H5: ="Estimated Total EAV Change for "&Input!$C$9&" " -> Estimated Total EAV Change for 2024 | I5: =Input!$C$41 -> #DIV/0!
I7: Scenario Assumptions
B8: Original Estimate | C8: Scenario Actual | H8: ="Actual % Change to Existing EAV for "&Input!$C$9&" " -> Actual % Change to Existing EAV for 2024 | I8: =Calculations!H5 -> 0 | J8: Enter What If...? Existing EAV Assumption or, Final Actual to Stress Test the Levy
H9: ="Actual New Property for "&Input!$C$9&" " -> Actual New Property for 2024 | I9: =Calculations!H8 -> 0 | J9: Enter What If...? New Property Assumption or, Final Actual to Stress Test the Levy
A10: Limiting Rate | B10: =IF(Input!C19="Yes",Input!$D$68*(1+MIN(0.05,Input!$C$28))/(Input!$C$40-Input!$C$38)*100,"N/A") -> #DIV/0! | C10: =IF(Input!C19="Yes",Input!$D$68*(1+MIN(0.05,Input!$C$28))/(I10-I9)*100,"N/A") -> #DIV/0! | H10: ="Actual Total EAV for "&Input!$C$9&" " -> Actual Total EAV for 2024 | I10: =Input!C30*(1+Extension!I8)+Extension!I9 -> 0
A11: Capped Extension | B11: =IF(Input!C19="Yes",($B$10*Input!$C$40)/100,"N/A") -> #DIV/0! | C11: =IF(Input!C19="Yes",($C$10*$I$10)/100,"N/A") -> #DIV/0! | H11: ="Actual Total EAV Change for "&Input!$C$9&" " -> Actual Total EAV Change for 2024 | I11: =I10/Input!$C$30-1 -> #DIV/0!
J12: Does This Levy Capture All Available Property Taxes Under These Assumptions?
H13: Reduction Factor | I13: =IF(C10>G37,"N/A",$C$10/$G$37) -> #DIV/0! | J13: =IF(Input!C19="No"," YES - All Available Property Tax Dollars Have Been Captured"," YES - All Available Tax Capped Dollars Have Been Captured") -> YES - All Available Tax Capped Dollars Have Been Captured
H14: =IF(Input!C19="Yes","Amount Below Allowable PTELL ","Amount Below Available Extension ") -> Amount Below Allowable PTELL | I14: =IF(Input!C19="No",IF(Extension!I37<Extension!H37,Extension!I37-Extension!H37,""),IF(I13="N/A",I37-C11,"")) -> #DIV/0! | J14: =IF(I14<0," ALERT - Levy Increase Needed to Capture All Available Property Taxes","") -> #DIV/0!
G16: =IF(Input!C19="No","Maximum Extension Factor",IF(Input!C21="no","Maximum Calculated Tax Rate","Maximum Tax Rate using Prior Year EAV")) -> Maximum Calculated Tax Rate | H16: =IF(Input!C19="No","Scenario Calculated Maximum Extension ","Maximum Allowable Extension") -> Maximum Allowable Extension | I16: =IF(Input!$C$19="Yes","Maximum Allowable Extension x Reduction Factor","Scenario Calculated Extension") -> Maximum Allowable Extension x Reduction Factor | J16: Final Tax Rate | N16: Final Adjusted Tax Rate
B17: Current Levy Amount | C17: County Loss % | E17: Total Levy with County Loss % | F17: Scenario Calculated Tax Rate | L17: Spring Extension Adjustment Between Funds | M17: Final Adjusted Extension
A18: =Calculations!A14 -> Corporate | B18: =Calculations!J14 -> #DIV/0! | C18: 0 | E18: =B18*(1+C18) -> #DIV/0! | F18: =(E18/$I$10)*100 -> #DIV/0! | G18: =IF(Input!$C$19="No",IF(Input!C50>0,Input!C50,"Levy"),IF(Input!$C$21="no",IF(Input!C50>0,MIN(Input!C50,F18),F18),IF(Input!C50>0,MIN(Input!C50,Input!C50*(Input!$C$30+$I$9)/Extension!$I$10,F18),F18))) -> #DIV/0! | H18: =IF(G18="Levy",E18,((G18*$I$10)/100)) -> #DIV/0! | I18: =IF(Input!$C$19="Yes",IF($I$13="N/A",H18,H18*$I$13),IF(Extension!E18<Extension!H18,Extension!E18,Extension!H18)) -> #DIV/0! | J18: =(I18/$I$10)*100 -> #DIV/0! | L18: 0 | M18: =I18+L18 -> #DIV/0! | N18: =IF(M18=0,0,M18/$I$10)*100 -> #DIV/0!
A19: =Calculations!A15 -> Working Cash Funds | B19: =Calculations!J15 -> #DIV/0! | C19: 0 | E19: =B19*(1+C19) -> #DIV/0! | F19: =(E19/$I$10)*100 -> #DIV/0! | G19: =IF(Input!$C$19="No",IF(Input!C51>0,Input!C51,"Levy"),IF(Input!$C$21="no",IF(Input!C51>0,MIN(Input!C51,F19),F19),IF(Input!C51>0,MIN(Input!C51,Input!C51*(Input!$C$30+$I$9)/Extension!$I$10,F19),F19))) -> #DIV/0! | H19: =IF(G19="Levy",E19,((G19*$I$10)/100)) -> #DIV/0! | I19: =IF(Input!$C$19="Yes",IF($I$13="N/A",H19,H19*$I$13),IF(Extension!E19<Extension!H19,Extension!E19,Extension!H19)) -> #DIV/0! | J19: =(I19/$I$10)*100 -> #DIV/0! | L19: 0 | M19: =I19+L19 -> #DIV/0! | N19: =IF(M19=0,0,M19/$I$10)*100 -> #DIV/0!
A20: =Calculations!A16 -> Police Protection | B20: =Calculations!J16 -> #DIV/0! | C20: 0 | E20: =B20*(1+C20) -> #DIV/0! | F20: =(E20/$I$10)*100 -> #DIV/0! | G20: =IF(Input!$C$19="No",IF(Input!C52>0,Input!C52,"Levy"),IF(Input!$C$21="no",IF(Input!C52>0,MIN(Input!C52,F20),F20),IF(Input!C52>0,MIN(Input!C52,Input!C52*(Input!$C$30+$I$9)/Extension!$I$10,F20),F20))) -> #DIV/0! | H20: =IF(G20="Levy",E20,((G20*$I$10)/100)) -> #DIV/0! | I20: =IF(Input!$C$19="Yes",IF($I$13="N/A",H20,H20*$I$13),IF(Extension!E20<Extension!H20,Extension!E20,Extension!H20)) -> #DIV/0! | J20: =(I20/$I$10)*100 -> #DIV/0! | L20: 0 | M20: =I20+L20 -> #DIV/0! | N20: =IF(M20=0,0,M20/$I$10)*100 -> #DIV/0!
A21: =Calculations!A17 -> Auditing | B21: =Calculations!J17 -> #DIV/0! | C21: 0 | E21: =B21*(1+C21) -> #DIV/0! | F21: =(E21/$I$10)*100 -> #DIV/0! | G21: =IF(Input!$C$19="No",IF(Input!C53>0,Input!C53,"Levy"),IF(Input!$C$21="no",IF(Input!C53>0,MIN(Input!C53,F21),F21),IF(Input!C53>0,MIN(Input!C53,Input!C53*(Input!$C$30+$I$9)/Extension!$I$10,F21),F21))) -> #DIV/0! | H21: =IF(G21="Levy",E21,((G21*$I$10)/100)) -> #DIV/0! | I21: =IF(Input!$C$19="Yes",IF($I$13="N/A",H21,H21*$I$13),IF(Extension!E21<Extension!H21,Extension!E21,Extension!H21)) -> #DIV/0! | J21: =(I21/$I$10)*100 -> #DIV/0! | L21: 0 | M21: =I21+L21 -> #DIV/0! | N21: =IF(M21=0,0,M21/$I$10)*100 -> #DIV/0!
A22: =Calculations!A18 -> Municipal Retirement | B22: =Calculations!J18 -> #DIV/0! | C22: 0 | E22: =B22*(1+C22) -> #DIV/0! | F22: =(E22/$I$10)*100 -> #DIV/0! | G22: =IF(Input!$C$19="No",IF(Input!C54>0,Input!C54,"Levy"),IF(Input!$C$21="no",IF(Input!C54>0,MIN(Input!C54,F22),F22),IF(Input!C54>0,MIN(Input!C54,Input!C54*(Input!$C$30+$I$9)/Extension!$I$10,F22),F22))) -> #DIV/0! | H22: =IF(G22="Levy",E22,((G22*$I$10)/100)) -> #DIV/0! | I22: =IF(Input!$C$19="Yes",IF($I$13="N/A",H22,H22*$I$13),IF(Extension!E22<Extension!H22,Extension!E22,Extension!H22)) -> #DIV/0! | J22: =(I22/$I$10)*100 -> #DIV/0! | L22: 0 | M22: =I22+L22 -> #DIV/0! | N22: =IF(M22=0,0,M22/$I$10)*100 -> #DIV/0!
A23: =Calculations!A19 -> Unemployment Insurance | B23: =Calculations!J19 -> #DIV/0! | C23: 0 | E23: =B23*(1+C23) -> #DIV/0! | F23: =(E23/$I$10)*100 -> #DIV/0! | G23: =IF(Input!$C$19="No",IF(Input!C55>0,Input!C55,"Levy"),IF(Input!$C$21="no",IF(Input!C55>0,MIN(Input!C55,F23),F23),IF(Input!C55>0,MIN(Input!C55,Input!C55*(Input!$C$30+$I$9)/Extension!$I$10,F23),F23))) -> #DIV/0! | H23: =IF(G23="Levy",E23,((G23*$I$10)/100)) -> #DIV/0! | I23: =IF(Input!$C$19="Yes",IF($I$13="N/A",H23,H23*$I$13),IF(Extension!E23<Extension!H23,Extension!E23,Extension!H23)) -> #DIV/0! | J23: =(I23/$I$10)*100 -> #DIV/0! | L23: 0 | M23: =I23+L23 -> #DIV/0! | N23: =IF(M23=0,0,M23/$I$10)*100 -> #DIV/0!
A24: =Calculations!A20 -> Workman's Compensation | B24: =Calculations!J20 -> #DIV/0! | C24: 0 | E24: =B24*(1+C24) -> #DIV/0! | F24: =(E24/$I$10)*100 -> #DIV/0! | G24: =IF(Input!$C$19="No",IF(Input!C56>0,Input!C56,"Levy"),IF(Input!$C$21="no",IF(Input!C56>0,MIN(Input!C56,F24),F24),IF(Input!C56>0,MIN(Input!C56,Input!C56*(Input!$C$30+$I$9)/Extension!$I$10,F24),F24))) -> #DIV/0! | H24: =IF(G24="Levy",E24,((G24*$I$10)/100)) -> #DIV/0! | I24: =IF(Input!$C$19="Yes",IF($I$13="N/A",H24,H24*$I$13),IF(Extension!E24<Extension!H24,Extension!E24,Extension!H24)) -> #DIV/0! | J24: =(I24/$I$10)*100 -> #DIV/0! | L24: 0 | M24: =I24+L24 -> #DIV/0! | N24: =IF(M24=0,0,M24/$I$10)*100 -> #DIV/0!
A25: =Calculations!A21 -> Social Security | B25: =Calculations!J21 -> #DIV/0! | C25: 0 | E25: =B25*(1+C25) -> #DIV/0! | F25: =(E25/$I$10)*100 -> #DIV/0! | G25: =IF(Input!$C$19="No",IF(Input!C57>0,Input!C57,"Levy"),IF(Input!$C$21="no",IF(Input!C57>0,MIN(Input!C57,F25),F25),IF(Input!C57>0,MIN(Input!C57,Input!C57*(Input!$C$30+$I$9)/Extension!$I$10,F25),F25))) -> #DIV/0! | H25: =IF(G25="Levy",E25,((G25*$I$10)/100)) -> #DIV/0! | I25: =IF(Input!$C$19="Yes",IF($I$13="N/A",H25,H25*$I$13),IF(Extension!E25<Extension!H25,Extension!E25,Extension!H25)) -> #DIV/0! | J25: =(I25/$I$10)*100 -> #DIV/0! | L25: 0 | M25: =I25+L25 -> #DIV/0! | N25: =IF(M25=0,0,M25/$I$10)*100 -> #DIV/0!
A26: =Calculations!A22 -> Recreation | B26: =Calculations!J22 -> #DIV/0! | C26: 0 | E26: =B26*(1+C26) -> #DIV/0! | F26: =(E26/$I$10)*100 -> #DIV/0! | G26: =IF(Input!$C$19="No",IF(Input!C58>0,Input!C58,"Levy"),IF(Input!$C$21="no",IF(Input!C58>0,MIN(Input!C58,F26),F26),IF(Input!C58>0,MIN(Input!C58,Input!C58*(Input!$C$30+$I$9)/Extension!$I$10,F26),F26))) -> #DIV/0! | H26: =IF(G26="Levy",E26,((G26*$I$10)/100)) -> #DIV/0! | I26: =IF(Input!$C$19="Yes",IF($I$13="N/A",H26,H26*$I$13),IF(Extension!E26<Extension!H26,Extension!E26,Extension!H26)) -> #DIV/0! | J26: =(I26/$I$10)*100 -> #DIV/0! | L26: 0 | M26: =I26+L26 -> #DIV/0! | N26: =IF(M26=0,0,M26/$I$10)*100 -> #DIV/0!
A27: =Calculations!A23 -> Liability Insurance | B27: =Calculations!J23 -> #DIV/0! | C27: 0 | E27: =B27*(1+C27) -> #DIV/0! | F27: =(E27/$I$10)*100 -> #DIV/0! | G27: =IF(Input!$C$19="No",IF(Input!C59>0,Input!C59,"Levy"),IF(Input!$C$21="no",IF(Input!C59>0,MIN(Input!C59,F27),F27),IF(Input!C59>0,MIN(Input!C59,Input!C59*(Input!$C$30+$I$9)/Extension!$I$10,F27),F27))) -> #DIV/0! | H27: =IF(G27="Levy",E27,((G27*$I$10)/100)) -> #DIV/0! | I27: =IF(Input!$C$19="Yes",IF($I$13="N/A",H27,H27*$I$13),IF(Extension!E27<Extension!H27,Extension!E27,Extension!H27)) -> #DIV/0! | J27: =(I27/$I$10)*100 -> #DIV/0! | L27: 0 | M27: =I27+L27 -> #DIV/0! | N27: =IF(M27=0,0,M27/$I$10)*100 -> #DIV/0!
A28: =Calculations!A24 -> Paving/Lighting | B28: =Calculations!J24 -> #DIV/0! | C28: 0 | E28: =B28*(1+C28) -> #DIV/0! | F28: =(E28/$I$10)*100 -> #DIV/0! | G28: =IF(Input!$C$19="No",IF(Input!C60>0,Input!C60,"Levy"),IF(Input!$C$21="no",IF(Input!C60>0,MIN(Input!C60,F28),F28),IF(Input!C60>0,MIN(Input!C60,Input!C60*(Input!$C$30+$I$9)/Extension!$I$10,F28),F28))) -> #DIV/0! | H28: =IF(G28="Levy",E28,((G28*$I$10)/100)) -> #DIV/0! | I28: =IF(Input!$C$19="Yes",IF($I$13="N/A",H28,H28*$I$13),IF(Extension!E28<Extension!H28,Extension!E28,Extension!H28)) -> #DIV/0! | J28: =(I28/$I$10)*100 -> #DIV/0! | L28: 0 | M28: =I28+L28 -> #DIV/0! | N28: =IF(M28=0,0,M28/$I$10)*100 -> #DIV/0!
A29: =Calculations!A25 -> Public Benefit | B29: =Calculations!J25 -> #DIV/0! | C29: 0 | E29: =B29*(1+C29) -> #DIV/0! | F29: =(E29/$I$10)*100 -> #DIV/0! | G29: =IF(Input!$C$19="No",IF(Input!C61>0,Input!C61,"Levy"),IF(Input!$C$21="no",IF(Input!C61>0,MIN(Input!C61,F29),F29),IF(Input!C61>0,MIN(Input!C61,Input!C61*(Input!$C$30+$I$9)/Extension!$I$10,F29),F29))) -> #DIV/0! | H29: =IF(G29="Levy",E29,((G29*$I$10)/100)) -> #DIV/0! | I29: =IF(Input!$C$19="Yes",IF($I$13="N/A",H29,H29*$I$13),IF(Extension!E29<Extension!H29,Extension!E29,Extension!H29)) -> #DIV/0! | J29: =(I29/$I$10)*100 -> #DIV/0! | L29: 0 | M29: =I29+L29 -> #DIV/0! | N29: =IF(M29=0,0,M29/$I$10)*100 -> #DIV/0!
... A34: =Calculations!A30 -> Custom 3 | B34: =Calculations!J30 -> #DIV/0! | C34: 0 | E34: =B34*(1+C34) -> #DIV/0! | F34: =(E34/$I$10)*100 -> #DIV/0! | G34: =IF(Input!$C$19="No",IF(Input!C66>0,Input!C66,"Levy"),IF(Input!$C$21="no",IF(Input!C66>0,MIN(Input!C66,F34),F34),IF(Input!C66>0,MIN(Input!C66,Input!C66*(Input!$C$30+$I$9)/Extension!$I$10,F34),F34))) -> #DIV/0! | H34: =IF(G34="Levy",E34,((G34*$I$10)/100)) -> #DIV/0! | I34: =IF(Input!$C$19="Yes",IF($I$13="N/A",H34,H34*$I$13),IF(Extension!E34<Extension!H34,Extension!E34,Extension!H34)) -> #DIV/0! | J34: =(I34/$I$10)*100 -> #DIV/0! | L34: 0 | M34: =I34+L34 -> #DIV/0! | N34: =IF(M34=0,0,M34/$I$10)*100 -> #DIV/0!
L35: =-L37 -> 0 | M35: =IF(L35<0," Extension Reduction Needed, Net to $0"," Extension Increase Needed, Net to $0") -> Extension Increase Needed, Net to $0
A37: =IF(Input!C19="Yes","Capped Levy/Extension/Rate ","Levy/Extension/Rate ") -> Capped Levy/Extension/Rate | B37: =SUM(B18:B34) -> #DIV/0! | E37: =SUM(E18:E34) -> #DIV/0! | F37: =SUM(F18:F34) -> #DIV/0! | G37: =SUM(G18:G34) -> #DIV/0! | H37: =SUM(H18:H34) -> #DIV/0! | I37: =SUM(I18:I35) -> #DIV/0! | J37: =(I37/$I$10)*100 -> #DIV/0! | L37: =SUM(L18:L34) -> 0 | M37: =SUM(M18:M34) -> #DIV/0! | N37: =SUM(N18:N34) -> #DIV/0!
A39: Special Recreation Levy | B39: =Calculations!J37 -> 0 | H39: Actual Special Recreation Extension/Rate | I39: =MIN((B39*(1+C39)),I$10*MIN(4%,Calculations!F36)/100) -> 0 | J39: =I39/I$10*100 -> #DIV/0! | L39: =IF(J39<Calculations!F36,(J39-Calculations!F36)*I10/100,"") -> #DIV/0! | N39: =J39 -> #DIV/0!
L40: =IF(L39<0," ALERT - Special Recreation Levy Increase Needed","") -> #DIV/0!
A41: Museum Levy | B41: =Calculations!J40 -> 0 | H41: Actual Museum Extension/Rate | I41: =MIN((B41*(1+C41)),I$10*MIN(Input!$C$71,Calculations!F39)/100) -> 0 | J41: =I41/I$10*100 -> #DIV/0! | L41: =IF(J41<Calculations!F39,(J41-Calculations!F39)*I10/100,"") -> #DIV/0! | N41: =J41 -> #DIV/0!
L42: =IF(L41<0," ALERT - Museum Levy Increase Needed","") -> #DIV/0!
A43: Bond & Interest Levy | B43: =Calculations!J42 -> 0 | H43: Actual Bond & Interest Extension/Rate | J43: =(I43/$I$10)*100 -> #DIV/0! | K43: Includes Loss % Added by County Clerk(s) | N43: =J43 -> #DIV/0!
A45: Total Levy | B45: =B37+B43+B39+B41 -> #DIV/0! | H45: Actual Total Extension/Rate | I45: =I37+I39+I41+I43 -> #DIV/0! | J45: =J37+J39+J41+J43 -> #DIV/0! | N45: =N37+N39+N41+N43 -> #DIV/0!

Sheet Tax Calculator - Extension
F1: Legend
A2: =Input!$C$9&" Taxpayer Impact Calculation Page" -> 2024 Taxpayer Impact Calculation Page | F2: District Assumptions & Data Entry
F3: Calculated Values
B4: Scenario Assumptions from Extension Tab | F4: Review Needed | M4: Taxpayer Impact
A6: =Extension!H8 -> Actual % Change to Existing EAV for 2024 | B6: =Extension!I8 -> 0 | L6: =(Input!$C$9-1)& " Fair Cash / Market Value Home" -> 2023 Fair Cash / Market Value Home
A7: ="Actual EAV Value for "& Input!C9&" " -> Actual EAV Value for 2024 | B7: =Extension!I10 -> 0 | Z7: ='Tax Calculator - Calculations'!Z7 -> 0 | AB7: LY22
L8: ="Estimated "&Input!C9&" Fair Cash Value Home" -> Estimated 2024 Fair Cash Value Home | M8: =M6*(1+B6) -> 0 | N8: Includes EAV % Change | X8: Cook | Y8: 0.1 | Z8: ='Tax Calculator - Calculations'!Z8 -> 3.0163 | AA8: 10000 | AB8: 10000
A9: =Extension!H9 -> Actual New Property for 2024 | B9: =Extension!I9 -> 0 | X9: DuPage | Y9: =((1/3)*100)% -> 0.33333333 | Z9: ='Tax Calculator - Calculations'!Z9 -> 1 | AA9: 8000 | AB9: 6000
A11: ="Actual Total EAV Value for "& Input!C9&" " -> Actual Total EAV Value for 2024 | B11: =B7+B9 -> 0 | C11: Includes New Property | L11: Total Assessed Value | M11: =M8*N11 -> 0 | N11: =IF(Input!$C$13="Cook",'Tax Calculator - Extension'!Y8,'Tax Calculator - Extension'!Y9) -> 0.33333333 | X11: Lake | AA11: 8000
L12: State Equalization Multiplier | M12: =M11*N12 -> 0 | N12: =IF(Input!$C$13="Cook",'Tax Calculator - Extension'!Z8,'Tax Calculator - Extension'!Z9) -> 1 | X12: McHenry | AA12: 8000
A13: =Input!$C$9-1&" Operating Rate" -> 2023 Operating Rate | B13: =(Input!D68/Input!C30)*100 -> #DIV/0! | X13: Kane | AA13: 8000
A14: ="Estimated "&Input!$C$9&" Operating Rate" -> Estimated 2024 Operating Rate | B14: =Extension!N37 -> #DIV/0! | N14: Based on County 1 on the input tab | X14: Will | AA14: 8000
A15: ="Actual "&Input!$C$9&" Bond & Interest Tax Rate" -> Actual 2024 Bond & Interest Tax Rate | B15: =((Extension!I43*(1+B17)/B11*100)+0.0000001) -> #DIV/0! | C15: Includes Loss Cost | E15: If the actual Bond & Interest extension is known and input on the "Extension" tab in cell I41, no input is needed for the Loss Cost and Abatement cells. | L15: Homestead Exemption | M15: =IF(Input!$C$13="Cook",'Tax Calculator - Extension'!AA8,IF(Input!$C$13="DuPage",'Tax Calculator - Extension'!AA9,IF(Input!C13="Lake",'Tax Calculator - Extension'!AA11,IF(Input!C13="McHenry",'Tax Calculator - Extension'!AA12,IF(Input!C13="Kane",'Tax Calculator - Extension'!AA13,IF(Input!C13="Will",'Tax Calculator - Extension'!AA14,AA15)))))) -> 6000 | AA15: 6000
A17: Bond & Interest Lost Cost (%) | L17: Net Equalized Assessed Value | M17: =M12-M15 -> -6000
A19: Bond & Interest Abatement | C19: Enter debt service to be abated | L19: ="Estimated Change in Tax Payment for "& Input!C9 -> Estimated Change in Tax Payment for 2024 | M19: =(M17*(B27)/100)-(((((M6*N11)*IF(Input!C13="Cook",Z7,Z9))-M15)*(B28)/100)) -> #DIV/0!
A20: Bond & Interest Rate Abatement | B20: =((B19*(1+B17))/B11*100) -> #DIV/0! | C20: Cannot exceed estimated B&I Tax Rate
I21: ="Note, the calculator is intended to estimate the "&Input!C11&" portion of the tax bill." -> Note, the calculator is intended to estimate the portion of the tax bill.
A22: ="Net "&Input!$C$9&" B&I Tax Rate" -> Net 2024 B&I Tax Rate | B22: =(IF(B15>B20,B15-B20,"Check Abatement")) -> #DIV/0! | I22: It does not include the recapture levy or property taxes paid for other District purposes and to other governments. Actual tax rates and payments may vary based on District-wide EAV growth, individual homeowner reassessment, State Law changes, property tax rate initiatives and other factors.
A24: ="Actual "&Input!$C$9&" Special Recreation Rate" -> Actual 2024 Special Recreation Rate | B24: =Extension!$J39 -> #DIV/0!
A25: ="Actual "&Input!$C$9&" Museum Rate" -> Actual 2024 Museum Rate | B25: =Extension!$J41 -> #DIV/0!
A27: ="Total "&Input!$C$9&" Tax Rate" -> Total 2024 Tax Rate | B27: =B22+B14+B24+B25 -> #DIV/0!
A28: Total Prior Year's Tax Rate | B28: =Input!D76/Input!C30*100 -> #DIV/0!

Sheet Truth in Taxation
D4: NOTICE OF PROPOSED PROPERTY TAX INCREASE FOR
D5: =+S7 -> 0
R6: District Information
C7: I. | D7: ="A public hearing to approve a proposed property tax levy increase for "&S7&" " -> A public hearing to approve a proposed property tax levy increase for | R7: District Name:
D8: =IF(Input!$C$14=0,Input!$C$13&" County",IF(Input!$C$15=0,Input!$C$13&" and "&Input!$C$14&" Counties",IF(Input!$C$16=0,Input!$C$13&", "&Input!$C$14&" and "&Input!$C$15&" Counties",Input!$C$13&", "&Input!$C$14&", "&Input!$C$15&" and "&Input!$C$16&" Counties")))&", Illinois for "&Input!C9&" """ -> County, Illinois for 2024 " | R8: Hearing Date: | T8: =TEXT(S8,"mmmm dd, yyyy") -> January 00, 1900
D9: ="will be held on "&T8&" at "&$S$10&", "&$S$11&", IL "&S12&" at "&$S$9&"." -> will be held on January 00, 1900 at , , IL at . | R9: Hearing Time:
R10: Hearing Address:
R11: Hearing Municipality:
D12: Any person desiring to appear at the public hearing and present testimony to the taxing | R12: Hearing Zip Code:
D13: ="district may contact "&S14&" at "&S15&"." -> district may contact at .
R14: District contact name:
R15: District contact email address:
R16: *Please use an apostrophe (') in front of the Hearing Time.
C17: II. | D17: ="The corporate and special purpose property taxes extended or abated for "&Input!C9-"1 "&" were" -> The corporate and special purpose property taxes extended or abated for 2023 were
D18: =Input!$D$68+Input!$D$70 -> 0
D21: ="The proposed corporate and special purposed property taxes to be levied for "&Input!C9 &" are" -> The proposed corporate and special purposed property taxes to be levied for 2024 are
D22: =Calculations!$J$33+Calculations!$J$37 -> #DIV/0! | E22: =(D22-D18)/D18 -> #DIV/0!
C25: III. | D25: ="The property taxes extended for debt services and public building commission leases for "&Input!C9-"1 "&" were" -> The property taxes extended for debt services and public building commission leases for 2023 were
D26: =Input!$D$74 -> 0
D29: ="The estimated property taxes to be levied for debt service and public building commission leases for "&Input!C9 &" are" -> The estimated property taxes to be levied for debt service and public building commission leases for 2024 are
D30: =Calculations!$J$42 -> 0
C33: IV. | D33: ="The total property taxes extended or abated for "&Input!C9-"1 "&" were" -> The total property taxes extended or abated for 2023 were
D34: =D18+D26 -> 0
D36: ="The estimated total property taxes to be levied for "&Input!C9 &" are" -> The estimated total property taxes to be levied for 2024 are
D37: =D30+D22 -> #DIV/0! | E37: =(D37-D34)/D34 -> #DIV/0!

Sheet InfoPage
A1: Password: | B1: CTL02
